BEGIN:VCALENDAR
VERSION:2.0
PRODID:-//GDLG e.V. - ECPv6.15.20//NONSGML v1.0//EN
CALSCALE:GREGORIAN
METHOD:PUBLISH
X-ORIGINAL-URL:https://gdlg.eu
X-WR-CALDESC:Veranstaltungen für GDLG e.V.
REFRESH-INTERVAL;VALUE=DURATION:PT1H
X-Robots-Tag:noindex
X-PUBLISHED-TTL:PT1H
BEGIN:VTIMEZONE
TZID:UTC
BEGIN:STANDARD
TZOFFSETFROM:+0000
TZOFFSETTO:+0000
TZNAME:UTC
DTSTART:20240101T000000
END:STANDARD
END:VTIMEZONE
BEGIN:VEVENT
DTSTART;VALUE=DATE:20251113
DTEND;VALUE=DATE:20251115
DTSTAMP:20260420T073147
CREATED:20240108T143521Z
LAST-MODIFIED:20250324T105627Z
UID:902-1762992000-1763164799@gdlg.eu
SUMMARY:Zukunftsforum Klassische Sprachen
DESCRIPTION:Wir laden schon jetzt recht herzlich ein zum Zukunftsforum Klassische Sprache am 13. und 14. November 2025 in Erfurt (ehemals geplant als „Perspektiven für den Lateinunterricht VII“). \nBitte merken Sie sich den Termin schon einmal vor. Informationen zum Programm und zur Organisation werden noch folgen.
URL:https://gdlg.eu/event/zukunftsforum-klassische-sprachen/
LOCATION:Augustinerkloster Erfurt\, Augustinerstraße 10\, Erfurt\, 99084\, Deutschland
END:VEVENT
END:VCALENDAR