BEGIN:VCALENDAR
VERSION:2.0
PRODID:-//GDLG e.V. - ECPv6.15.20//NONSGML v1.0//EN
CALSCALE:GREGORIAN
METHOD:PUBLISH
X-WR-CALNAME:GDLG e.V.
X-ORIGINAL-URL:https://gdlg.eu
X-WR-CALDESC:Veranstaltungen für GDLG e.V.
REFRESH-INTERVAL;VALUE=DURATION:PT1H
X-Robots-Tag:noindex
X-PUBLISHED-TTL:PT1H
BEGIN:VTIMEZONE
TZID:UTC
BEGIN:STANDARD
TZOFFSETFROM:+0000
TZOFFSETTO:+0000
TZNAME:UTC
DTSTART:20240101T000000
END:STANDARD
END:VTIMEZONE
BEGIN:VEVENT
DTSTART;TZID=UTC:20250603T190000
DTEND;TZID=UTC:20250603T203000
DTSTAMP:20260420T171200
CREATED:20250324T105047Z
LAST-MODIFIED:20250603T161133Z
UID:1128-1748977200-1748982600@gdlg.eu
SUMMARY:Kamingespräch mit Stefan Faller (GER)
DESCRIPTION:Am Dienstag\, 3. Juni 2025\, 19:00 Uhr s.t. (via Zoom) wird das nächste Kamingespräch stattfinden\, bei dem Dr. Stefan Faller zu Gast ist. Er wird zu folgendem Thema sprechen: \n\n\n\nMit dem Latein am Ende – aber kein Latinum? Neue Niveaueinstufungen für Latein und Griechisch in Anlehnung an den „Gemeinsamen europäischen Referenzrahmen für Sprachen“ (GER) \n\n\n\nAbstract: In den letzten Jahren ist immer klarer geworden\, dass in den klassischen Sprachen neben den ‚Goldstandards‘ des Latinums und Graecums weitere Niveaustufen definiert werden müssten – sei es\, weil z. B. an den Universitäten für sehr viele Studiengänge nicht weiter definierte „Grundkenntnisse“ unterhalb des Latinums/Graecums verlangt werden oder weil es an den Schulen Bildungsgänge gibt\, die nicht das Latinum oder Graecum anstreben. Leistungen\, die hier von den Lernenden erzielt werden\, sind bisher nur schwierig oder gar nicht darstellbar. \n\n\n\nIm Jahr 2021 wurde eine Arbeitsgruppe des Deutschen Altphilologenverbands damit beauftragt\, Deskriptoren für Niveaustufen unterhalb des Latinums/Graecums zu entwerfen\, die sich am Gemeinsamen europäischen Rahmen für Sprachen orientieren. In dem Kamingespräch soll die dringende Notwendigkeit für die Zertifizierung von Sprachniveaus unterhalb des Latinums/Graecums ebenso beleuchtet werden wie die Herausforderungen und Chancen\, die sich aus der Anbindung an den GeR ergeben. Informationen zum Stand der Veröffentlichung der Niveaus und zur Strategie ihrer Verbreitung werden ebenso gegeben wie Beispiele dafür\, wie eine Feststellung der Niveaus aussehen könnte. \n\n\n\nSie sind herzlich zur Teilnahme und zur Diskussion des Themas eingeladen! \n\n\n\nDie Einwahldaten für Zoom sind (ACHTUNG: am 03.06. 18:00 aktualisiert): https://uni-bielefeld.zoom-x.de/j/62725350783?pwd=E0x1bXu91AjT9YllzXkZTcHUCraY0N.1 Meeting-ID: 627 2535 0783 Passwort: 250804
URL:https://gdlg.eu/event/kamingespraech-mit-stefan-faller-am-03-06/
LOCATION:Online
END:VEVENT
END:VCALENDAR