BEGIN:VCALENDAR
VERSION:2.0
PRODID:-//GDLG e.V. - ECPv6.15.20//NONSGML v1.0//EN
CALSCALE:GREGORIAN
METHOD:PUBLISH
X-WR-CALNAME:GDLG e.V.
X-ORIGINAL-URL:https://gdlg.eu
X-WR-CALDESC:Veranstaltungen für GDLG e.V.
REFRESH-INTERVAL;VALUE=DURATION:PT1H
X-Robots-Tag:noindex
X-PUBLISHED-TTL:PT1H
BEGIN:VTIMEZONE
TZID:UTC
BEGIN:STANDARD
TZOFFSETFROM:+0000
TZOFFSETTO:+0000
TZNAME:UTC
DTSTART:20220101T000000
END:STANDARD
END:VTIMEZONE
BEGIN:VEVENT
DTSTART;TZID=UTC:20231109T133000
DTEND;TZID=UTC:20231110T140000
DTSTAMP:20260422T093650
CREATED:20220810T093831Z
LAST-MODIFIED:20230404T150158Z
UID:661-1699536600-1699624800@gdlg.eu
SUMMARY:Fachtagung 'Perspektiven für den Lateinunterricht VI'
DESCRIPTION:Die Perspektiven VI werden am 09./10.11.2023 im Augustinerkloster Erfurt\, Augustinerstr. 10\, 99084 Erfurt stattfinden. \n\n\n\nSie werden organisiert von der GDLG e.V. in angestrebter Kooperation mit dem Thüringer Institut für Lehrerfortbildung\, Lehrplanentwicklung und Medien (ThILLM). Das Programm\, Anmeldeformular und nähere Infos finden Sie hier.
URL:https://gdlg.eu/event/fachtagung-perspektiven-fuer-den-lateinunterricht-vi/
LOCATION:Augustinerkloster Erfurt\, Augustinerstraße 10\, Erfurt\, 99084\, Deutschland
END:VEVENT
BEGIN:VEVENT
DTSTART;TZID=UTC:20231116T170000
DTEND;TZID=UTC:20231116T183000
DTSTAMP:20260422T093650
CREATED:20231115T184645Z
LAST-MODIFIED:20231115T184645Z
UID:878-1700154000-1700159400@gdlg.eu
SUMMARY:Online-Vortrag: Sprache – Macht – Diversität (Mercator Institut)
DESCRIPTION:Die Vorträge in der Veranstaltungsreihe zum Thema Sprache – Macht – Diversität des Mercator Instituts für Sprachförderung und Deutsch als Zweitsprache mit anschließender Diskussion finden donnerstags\,\n17.00-18.30 Uhr per Zoom statt:\nhttps://uni-koeln.zoom.us/j/94663313557?pwd=RGd3SVk3SzdSVEFkWHpOZGQyNk1CUT09 \nMeeting-ID: 946 6331 3557\nPasswort: 568746 \n16.11.2023:\nImmer diVERSIERTER. Sprache und intersektionale Gender & Queer Studies\nDIRK SCHULZ UND KAROLIN KALMBACH\n“Hallo Herr Nachbar” – DaF/DaZ intersektional\nCAREN BRENDEL\, MARIE-LUISE ENGELMANN\, ANNALENA MESSNER
URL:https://gdlg.eu/event/online-vortrag-sprache-macht-diversitaet-mercator-institut/
LOCATION:Online
END:VEVENT
BEGIN:VEVENT
DTSTART;TZID=UTC:20231130T170000
DTEND;TZID=UTC:20231130T183000
DTSTAMP:20260422T093650
CREATED:20231115T184850Z
LAST-MODIFIED:20231115T184917Z
UID:881-1701363600-1701369000@gdlg.eu
SUMMARY:Online-Vortrag: Sprache – Macht – Diversität (Mercator Institut)
DESCRIPTION:Die Vorträge in der Veranstaltungsreihe zum Thema Sprache – Macht – Diversität des Mercator Instituts für Sprachförderung und Deutsch als Zweitsprache mit anschließender Diskussion finden donnerstags\,\n17.00-18.30 Uhr per Zoom statt:\nhttps://uni-koeln.zoom.us/j/94663313557?pwd=RGd3SVk3SzdSVEFkWHpOZGQyNk1CUT09 \nMeeting-ID: 946 6331 3557\nPasswort: 568746 \n30.11.2023:\nDie Zentrierung des Individuums als epistemische Gewalt. Eine Kritik am Begriff der Sprachaneignung30.11M KNAPPIK
URL:https://gdlg.eu/event/online-vortrag-sprache-macht-diversitaet-mercator-institut-2/
LOCATION:Online
END:VEVENT
END:VCALENDAR