BEGIN:VCALENDAR
VERSION:2.0
PRODID:-//GDLG e.V. - ECPv6.15.20//NONSGML v1.0//EN
CALSCALE:GREGORIAN
METHOD:PUBLISH
X-WR-CALNAME:GDLG e.V.
X-ORIGINAL-URL:https://gdlg.eu
X-WR-CALDESC:Veranstaltungen für GDLG e.V.
REFRESH-INTERVAL;VALUE=DURATION:PT1H
X-Robots-Tag:noindex
X-PUBLISHED-TTL:PT1H
BEGIN:VTIMEZONE
TZID:UTC
BEGIN:STANDARD
TZOFFSETFROM:+0000
TZOFFSETTO:+0000
TZNAME:UTC
DTSTART:20220101T000000
END:STANDARD
END:VTIMEZONE
BEGIN:VEVENT
DTSTART;VALUE=DATE:20231019
DTEND;VALUE=DATE:20231021
DTSTAMP:20260422T112327
CREATED:20230331T072532Z
LAST-MODIFIED:20230331T072532Z
UID:788-1697673600-1697846399@gdlg.eu
SUMMARY:15. Arbeitstagung der Arbeitsgruppe Kasuistik
DESCRIPTION:An der Pädagogischen Hochschule Zürich findet die 15. Arbeitstagung der Arbeitsgruppe Kasuistik am 19. und 20.10.2023 statt\, die explizit Belange der Fachdidaktiken berührt. \nDer Themenschwerpunkt ist „Der Fall und das Fach„. \nKolleg:innen\, die Interesse haben\, einen Workshopbeitrag (Zeitrahmen 120 Min.) zum im Flyer skizziertenSchwerpunkt zu leisten\, werden gebeten\, diesen in Form eines Abstracts (max. 3000 Zeichen ‘all inclusive’)bis 30. Mai 2023 an tobias.leonhard@phzh.ch zu senden \nAlle weiteren Informationen entnehmen Sie bitte dem verlinkten Flyer.
URL:https://gdlg.eu/event/15-arbeitstagung-der-arbeitsgruppe-kasuistik/
LOCATION:Pädagogische Hochschule Zürich
END:VEVENT
END:VCALENDAR