BEGIN:VCALENDAR
VERSION:2.0
PRODID:-//GDLG e.V. - ECPv6.15.20//NONSGML v1.0//EN
CALSCALE:GREGORIAN
METHOD:PUBLISH
X-ORIGINAL-URL:https://gdlg.eu
X-WR-CALDESC:Veranstaltungen für GDLG e.V.
REFRESH-INTERVAL;VALUE=DURATION:PT1H
X-Robots-Tag:noindex
X-PUBLISHED-TTL:PT1H
BEGIN:VTIMEZONE
TZID:UTC
BEGIN:STANDARD
TZOFFSETFROM:+0000
TZOFFSETTO:+0000
TZNAME:UTC
DTSTART:20220101T000000
END:STANDARD
END:VTIMEZONE
BEGIN:VEVENT
DTSTART;VALUE=DATE:20230304
DTEND;VALUE=DATE:20230305
DTSTAMP:20260423T002730
CREATED:20230111T155005Z
LAST-MODIFIED:20230111T155005Z
UID:747-1677888000-1677974399@gdlg.eu
SUMMARY:Tagung "Neulateinische Texte aus Humanismus und Renaissance im Unterricht? - Warum\, wie\, wozu?"
DESCRIPTION:
URL:https://gdlg.eu/event/tagung-neulateinische-texte-aus-humanismus-und-renaissance-im-unterricht-warum-wie-wozu/
LOCATION:Gymnasium Walther von der Vogelweide\, A.-Diaz-Str. 34\, Bozen\, Italien
END:VEVENT
BEGIN:VEVENT
DTSTART;VALUE=DATE:20230325
DTEND;VALUE=DATE:20230326
DTSTAMP:20260423T002730
CREATED:20230111T155429Z
LAST-MODIFIED:20230111T155429Z
UID:753-1679702400-1679788799@gdlg.eu
SUMMARY:3. Mitteldeutscher Lateinlehrertag
DESCRIPTION:
URL:https://gdlg.eu/event/3-mitteldeutscher-lateinlehrertag/
LOCATION:Augustinerkloster Erfurt\, Augustinerstraße 10\, Erfurt\, 99084\, Deutschland
END:VEVENT
END:VCALENDAR