BEGIN:VCALENDAR
VERSION:2.0
PRODID:-//GDLG e.V. - ECPv6.15.20//NONSGML v1.0//EN
CALSCALE:GREGORIAN
METHOD:PUBLISH
X-ORIGINAL-URL:https://gdlg.eu
X-WR-CALDESC:Veranstaltungen für GDLG e.V.
REFRESH-INTERVAL;VALUE=DURATION:PT1H
X-Robots-Tag:noindex
X-PUBLISHED-TTL:PT1H
BEGIN:VTIMEZONE
TZID:UTC
BEGIN:STANDARD
TZOFFSETFROM:+0000
TZOFFSETTO:+0000
TZNAME:UTC
DTSTART:20220101T000000
END:STANDARD
END:VTIMEZONE
BEGIN:VEVENT
DTSTART;TZID=UTC:20230201T161500
DTEND;TZID=UTC:20230201T174500
DTSTAMP:20260423T023254
CREATED:20230125T112958Z
LAST-MODIFIED:20230125T112958Z
UID:756-1675268100-1675273500@gdlg.eu
SUMMARY:(Online-)Vortrag Carolin Giere: "Mittel- und Neulatein im Schulunterricht – Chancen und Herausforderungen."
DESCRIPTION:Carolin Giere (Freiburg):\n„Mittel- und Neulatein im Schulunterricht – Chancen und Herausforderungen.“\nMittwoch\, 01. Februar 2023\, 16.15h-17.45h\, Universität Freiburg\, Platz der Universität 3\, HS 1142 (Kollegiengebäude I\, 1. Obergeschoss) \nTeilnahme per Zoom:\nhttps://uni-freiburg.zoom.us/j/65377292039?pwd=Z3FIWU5wOFVybCs5aWszVCsvSmxvdz09
URL:https://gdlg.eu/event/online-vortrag-carolin-giere-mittel-und-neulatein-im-schulunterricht-chancen-und-herausforderungen/
LOCATION:Universität Freiburg\, HS 1142\, Platz der Universität 3\, Freiburg\, Deutschland
END:VEVENT
BEGIN:VEVENT
DTSTART;TZID=UTC:20230201T180000
DTEND;TZID=UTC:20230201T193000
DTSTAMP:20260423T023254
CREATED:20221014T090716Z
LAST-MODIFIED:20221014T092235Z
UID:704-1675274400-1675279800@gdlg.eu
SUMMARY:Online-Vortrag: "Lehrkräftebildung in einer digitalisierten Welt"
DESCRIPTION:Der Vortrag findet am 01.02.2023\, 18:00-19:30 im Rahmen der Fortsetzung der Fachgespräche für Lehrerinnen und Lehrerbildung\, ausgerichtet von der Universität Tübingen statt.\n \nDabei wird an dem Format festgehalten\, dass jedes Fachgespräch mit einem Hauptvortrag beginnt\, der durch kritische und konstruktive Impulse von einer oder einem critical friend ergänzt wird und mit einem Beitrag aus der next generation schließt. In der anschließenden Diskussion können Fragen per Chat oder mündlich gestellt werden. Mehr dazu finden Sie hier und im beigefügten Flyer: FLYER-Fachgespräche-Lehrkräftebildung-Staffel-2 \nDie Beteiligten dieser Veranstaltung sind: \nReferent: Beat Döbeli Honegger\, PH Schwyz\ncritical friend: Isa Jahnke (Technische Universität Nürnberg)\nVertreterin next generation: Johanna Schulze\, Universität Paderborn\nGastgebende: Universität Münster\, Manfred Holodynski & Ulrike Weyland
URL:https://gdlg.eu/event/online-vortrag-lehrkraeftebildung-in-einer-digitalisierten-welt/
LOCATION:Online
END:VEVENT
BEGIN:VEVENT
DTSTART;TZID=UTC:20230207T160000
DTEND;TZID=UTC:20230207T180000
DTSTAMP:20260423T023254
CREATED:20230201T110713Z
LAST-MODIFIED:20230201T110713Z
UID:768-1675785600-1675792800@gdlg.eu
SUMMARY:Hybrid-Vortrag: Zur Geschichte und Gegenwart der Humboldt-Rezeption im AU (Stefan Kipf)
DESCRIPTION:Prof. Dr. Stefan Kipf (Berlin) spricht am Dienstag\, den 07.02.2023\, 16-18 Uhr zum Thema: \nSind wir „Schüler Wilhelm von Humboldts“? –\nAnmerkungen zu Geschichte und Gegenwart der Humboldt-Rezeption im altsprachlichen Unterricht \nDer Vortrag findet in Präsenz in Potsdam statt:\nAm Neuen Palais\, Haus 12\, Raum 14 \nAußerdem können Sie ihn über Zoom verfolgen:\nhttps://uni-potsdam.zoom.us/j/62160132419\nMeeting ID: 621 6013 2419\nPasscode: 87501438
URL:https://gdlg.eu/event/hybrid-vortrag-zur-geschichte-und-gegenwart-der-humboldt-rezeption-im-au-stefan-kipf/
END:VEVENT
BEGIN:VEVENT
DTSTART;TZID=UTC:20230224T140000
DTEND;TZID=UTC:20230225T200000
DTSTAMP:20260423T023254
CREATED:20221228T094729Z
LAST-MODIFIED:20230131T151023Z
UID:731-1677247200-1677355200@gdlg.eu
SUMMARY:Internationale Tagung zur Fachdidaktik der Klassischen Sprachen
DESCRIPTION:Herzliche Einladung zur Internationalen Tagung zur Fachdidaktik der Klassischen Sprachen \nvom 24.-25. Februar 2023 \nan der Universität Wien! \n  \n \nDas vollständige Programm finden Sie in folgendem PDF: FDT_Programm
URL:https://gdlg.eu/event/internationale-tagung-zur-fachdidaktik-der-klassischen-sprachen/
LOCATION:Institut für Klassische Philologie\, Universität Wien\, Universitätsring 1 Stiege 6\,\, Wien\, 1010\, Österreich
END:VEVENT
END:VCALENDAR