BEGIN:VCALENDAR
VERSION:2.0
PRODID:-//GDLG e.V. - ECPv6.15.20//NONSGML v1.0//EN
CALSCALE:GREGORIAN
METHOD:PUBLISH
X-ORIGINAL-URL:https://gdlg.eu
X-WR-CALDESC:Veranstaltungen für GDLG e.V.
REFRESH-INTERVAL;VALUE=DURATION:PT1H
X-Robots-Tag:noindex
X-PUBLISHED-TTL:PT1H
BEGIN:VTIMEZONE
TZID:UTC
BEGIN:STANDARD
TZOFFSETFROM:+0000
TZOFFSETTO:+0000
TZNAME:UTC
DTSTART:20220101T000000
END:STANDARD
END:VTIMEZONE
BEGIN:VEVENT
DTSTART;TZID=UTC:20230111T180000
DTEND;TZID=UTC:20230111T193000
DTSTAMP:20260423T035829
CREATED:20221014T090416Z
LAST-MODIFIED:20221014T092241Z
UID:699-1673460000-1673465400@gdlg.eu
SUMMARY:Online-Vortrag: "Teacher Education: Meeting the Challenge of Quality Preparation and Teacher Shortages"
DESCRIPTION:Der Vortrag findet am 11.01.2023\, 18:00-19:30 im Rahmen der Fortsetzung der Fachgespräche für Lehrerinnen und Lehrerbildung\, ausgerichtet von der Universität Tübingen statt.\n \nDabei wird an dem Format festgehalten\, dass jedes Fachgespräch mit einem Hauptvortrag beginnt\, der durch kritische und konstruktive Impulse von einer oder einem critical friend ergänzt wird und mit einem Beitrag aus der next generation schließt. In der anschließenden Diskussion können Fragen per Chat oder mündlich gestellt werden. Mehr dazu finden Sie hier und im beigefügten Flyer: FLYER-Fachgespräche-Lehrkräftebildung-Staffel-2 \nDie Beteiligten dieser Veranstaltung sind: \nReferent: Gerald LeTendre\, Pennsylvania State University\, USA\ncritical friend: Joanna Madalińska-Michalak\, University of Warsaw\, Polen\nVertreter next generation: Jakob Kost\, University of Toronto\, Kanada / PH Bern\, Schweiz\nGastgebende: Technische Universität Dresden\, Axel Gehrmann & Manuela Niethammer
URL:https://gdlg.eu/event/online-vortrag-teacher-education-meeting-the-challenge-of-quality-preparation-and-teacher-shortages/
LOCATION:Online
END:VEVENT
END:VCALENDAR