BEGIN:VCALENDAR
VERSION:2.0
PRODID:-//GDLG e.V. - ECPv6.15.20//NONSGML v1.0//EN
CALSCALE:GREGORIAN
METHOD:PUBLISH
X-WR-CALNAME:GDLG e.V.
X-ORIGINAL-URL:https://gdlg.eu
X-WR-CALDESC:Veranstaltungen für GDLG e.V.
REFRESH-INTERVAL;VALUE=DURATION:PT1H
X-Robots-Tag:noindex
X-PUBLISHED-TTL:PT1H
BEGIN:VTIMEZONE
TZID:UTC
BEGIN:STANDARD
TZOFFSETFROM:+0000
TZOFFSETTO:+0000
TZNAME:UTC
DTSTART:20200101T000000
END:STANDARD
END:VTIMEZONE
BEGIN:VTIMEZONE
TZID:Europe/Paris
BEGIN:DAYLIGHT
TZOFFSETFROM:+0100
TZOFFSETTO:+0200
TZNAME:CEST
DTSTART:20200329T010000
END:DAYLIGHT
BEGIN:STANDARD
TZOFFSETFROM:+0200
TZOFFSETTO:+0100
TZNAME:CET
DTSTART:20201025T010000
END:STANDARD
BEGIN:DAYLIGHT
TZOFFSETFROM:+0100
TZOFFSETTO:+0200
TZNAME:CEST
DTSTART:20210328T010000
END:DAYLIGHT
BEGIN:STANDARD
TZOFFSETFROM:+0200
TZOFFSETTO:+0100
TZNAME:CET
DTSTART:20211031T010000
END:STANDARD
BEGIN:DAYLIGHT
TZOFFSETFROM:+0100
TZOFFSETTO:+0200
TZNAME:CEST
DTSTART:20220327T010000
END:DAYLIGHT
BEGIN:STANDARD
TZOFFSETFROM:+0200
TZOFFSETTO:+0100
TZNAME:CET
DTSTART:20221030T010000
END:STANDARD
END:VTIMEZONE
BEGIN:VEVENT
DTSTART;VALUE=DATE:20210702
DTEND;VALUE=DATE:20210704
DTSTAMP:20260424T145353
CREATED:20210503T082043Z
LAST-MODIFIED:20210503T082043Z
UID:442-1625184000-1625356799@gdlg.eu
SUMMARY:Österreichische Fachdidaktiktagung
DESCRIPTION:entweder in Präsenz in Graz oder digital
URL:https://gdlg.eu/event/oesterreichische-fachdidaktiktagung/
END:VEVENT
BEGIN:VEVENT
DTSTART;TZID=Europe/Paris:20210713T183000
DTEND;TZID=Europe/Paris:20210713T200000
DTSTAMP:20260424T145353
CREATED:20210602T101520Z
LAST-MODIFIED:20210602T102308Z
UID:467-1626201000-1626206400@gdlg.eu
SUMMARY:Diskussion (online): Decolonizing Classics? Identitätspolitik in den Altertumswissenschaften
DESCRIPTION:PDF: Decolonizing-Einladung \nDer Verein der Freunde der Klassischen Studien an der Ruhr-Universität Bochum e.V. lädt ein zur Diskussion \nDecolonizing Classics?\nIdentitätspolitik in den Altertumswissenschaften \nmit \n\nProf. Dr. Uwe Walter (Bielefeld)\nDr. Daniel Wendt (Berlin/Princeton)\nModeration: Dr. Katja Sommer\, Stellv. Bundesvorsitzende des DAV\n\nam Dienstag\, 13. Juli 2021\, 18.30 Uhr per Zoom-Video-Konferenz. \nInteressenten schreiben an randolf.lukas@rub.de und erhalten den Einladungslink. \nDie Veranstaltung soll informieren und aufklären anlässlich einer aktuellen Debatte in den Feuilletons\, ausgelöst durch Berichte über neueste Entwicklungen in unseren Fächern an Universitäten der anglophonen Welt.
URL:https://gdlg.eu/event/diskuddion-online-decolonizing-classics-identitaetspolitik-in-den-altertumswissenschaften/
END:VEVENT
BEGIN:VEVENT
DTSTART;VALUE=DATE:20210726
DTEND;VALUE=DATE:20210728
DTSTAMP:20260424T145353
CREATED:20210503T082123Z
LAST-MODIFIED:20210503T082133Z
UID:444-1627257600-1627430399@gdlg.eu
SUMMARY:Initialworkshop Mittel- und Neulatein an Schulen
DESCRIPTION:digital
URL:https://gdlg.eu/event/initialworkshop-mittel-und-neulatein-an-schule/
END:VEVENT
END:VCALENDAR