BEGIN:VCALENDAR
VERSION:2.0
PRODID:-//GDLG e.V. - ECPv6.15.20//NONSGML v1.0//EN
CALSCALE:GREGORIAN
METHOD:PUBLISH
X-WR-CALNAME:GDLG e.V.
X-ORIGINAL-URL:https://gdlg.eu
X-WR-CALDESC:Veranstaltungen für GDLG e.V.
REFRESH-INTERVAL;VALUE=DURATION:PT1H
X-Robots-Tag:noindex
X-PUBLISHED-TTL:PT1H
BEGIN:VTIMEZONE
TZID:UTC
BEGIN:STANDARD
TZOFFSETFROM:+0000
TZOFFSETTO:+0000
TZNAME:UTC
DTSTART:20250101T000000
END:STANDARD
END:VTIMEZONE
BEGIN:VEVENT
DTSTART;VALUE=DATE:20260904
DTEND;VALUE=DATE:20260906
DTSTAMP:20260419T203258
CREATED:20260401T113715Z
LAST-MODIFIED:20260401T113715Z
UID:1203-1788480000-1788652799@gdlg.eu
SUMMARY:3. GDLG-Kolloquium für Nachwuchswissenschaftler*innen in den Alten Sprachen
DESCRIPTION:ach den gut besuchten Nachwuchskolloquien 2024 und 2025 in Göttingen und Jena richtet die GDLG e.V. von Freitag\, 4. September bis Samstag\, 5. September 2026 zum dritten Mal ein Kolloquium für Nachwuchswissenschaftler*innen an der Universität Bielefeld aus. \nHier finden Sie den Call for Abstracts. \nWeitere Informationen zu Ablauf und Veranstaltungsort folgen.
URL:https://gdlg.eu/event/3-gdlg-kolloquium-fuer-nachwuchswissenschaftlerinnen-in-den-alten-sprachen/
LOCATION:Universität Bielefeld
END:VEVENT
END:VCALENDAR