BEGIN:VCALENDAR
VERSION:2.0
PRODID:-//GDLG e.V. - ECPv6.15.20//NONSGML v1.0//EN
CALSCALE:GREGORIAN
METHOD:PUBLISH
X-WR-CALNAME:GDLG e.V.
X-ORIGINAL-URL:https://gdlg.eu
X-WR-CALDESC:Veranstaltungen für GDLG e.V.
REFRESH-INTERVAL;VALUE=DURATION:PT1H
X-Robots-Tag:noindex
X-PUBLISHED-TTL:PT1H
BEGIN:VTIMEZONE
TZID:UTC
BEGIN:STANDARD
TZOFFSETFROM:+0000
TZOFFSETTO:+0000
TZNAME:UTC
DTSTART:20230101T000000
END:STANDARD
END:VTIMEZONE
BEGIN:VEVENT
DTSTART;VALUE=DATE:20240712
DTEND;VALUE=DATE:20240714
DTSTAMP:20260421T225348
CREATED:20240325T133536Z
LAST-MODIFIED:20240325T133536Z
UID:938-1720742400-1720915199@gdlg.eu
SUMMARY:„Lehren und Lernen als Thema der antiken Philosophie“ (Workshop an der Uni Würzburg)
DESCRIPTION:2. Treffen der Arbeitsgemeinschaft „Antike Philosophie\, Pädagogik und Didaktik“ in der\n„Gesellschaft für antike Philosophie“ (GANPH) vom 12. bis 13. Juli 2024 (Freitag-Samstag) an der Universität Würzburg\n\n \n\nSchulpraktiker\, Nachwuchsforscher und erfahrene Wissenschaftler sind herzlich eingeladen\, ihre Überlegungen zum Lernen und Lehren in der antiken Philosophie auf dieser Tagung einzubringen. Auch Beiträge\, die sich mit dem Lehren und Lernen in angrenzenden Wissensgebieten (z.B. der antiken Rhetorik oder der antiken Medizin) befassen\, sind willkommen. Weitere Details sind dem beigefügten Call for Abstracts (Link) zu entnehmen.
URL:https://gdlg.eu/event/lehren-und-lernen-als-thema-der-antiken-philosophie-workshop-an-der-uni-wuerzburg/
LOCATION:Institut für Philosophie der Universität Würzburg
END:VEVENT
END:VCALENDAR