BEGIN:VCALENDAR
VERSION:2.0
PRODID:-//GDLG e.V. - ECPv6.15.20//NONSGML v1.0//EN
CALSCALE:GREGORIAN
METHOD:PUBLISH
X-WR-CALNAME:GDLG e.V.
X-ORIGINAL-URL:https://gdlg.eu
X-WR-CALDESC:Veranstaltungen für GDLG e.V.
REFRESH-INTERVAL;VALUE=DURATION:PT1H
X-Robots-Tag:noindex
X-PUBLISHED-TTL:PT1H
BEGIN:VTIMEZONE
TZID:UTC
BEGIN:STANDARD
TZOFFSETFROM:+0000
TZOFFSETTO:+0000
TZNAME:UTC
DTSTART:20230101T000000
END:STANDARD
END:VTIMEZONE
BEGIN:VEVENT
DTSTART;VALUE=DATE:20240601
DTEND;VALUE=DATE:20240602
DTSTAMP:20260421T225342
CREATED:20240418T184939Z
LAST-MODIFIED:20240418T184939Z
UID:1004-1717200000-1717286399@gdlg.eu
SUMMARY:Workshop: Digitale Forschung in der Klassischen Philologie
DESCRIPTION:Am 01.06.2024 wird das DGF-Projekt Daidalos der interessierten Fachcommunity vorgestellt\, mit dem Schwerpunkt Word Embeddings.
URL:https://gdlg.eu/event/workshop-digitale-forschung-in-der-klassischen-philologie/
LOCATION:Humboldt-Universität zu Berli\, ﻿Unter den Linden 6\, Berlin\, 10117
END:VEVENT
END:VCALENDAR