BEGIN:VCALENDAR
VERSION:2.0
PRODID:-//GDLG e.V. - ECPv6.15.20//NONSGML v1.0//EN
CALSCALE:GREGORIAN
METHOD:PUBLISH
X-WR-CALNAME:GDLG e.V.
X-ORIGINAL-URL:https://gdlg.eu
X-WR-CALDESC:Veranstaltungen für GDLG e.V.
REFRESH-INTERVAL;VALUE=DURATION:PT1H
X-Robots-Tag:noindex
X-PUBLISHED-TTL:PT1H
BEGIN:VTIMEZONE
TZID:UTC
BEGIN:STANDARD
TZOFFSETFROM:+0000
TZOFFSETTO:+0000
TZNAME:UTC
DTSTART:20230101T000000
END:STANDARD
END:VTIMEZONE
BEGIN:VEVENT
DTSTART;TZID=UTC:20240529T123000
DTEND;TZID=UTC:20240529T140000
DTSTAMP:20260421T231132
CREATED:20240418T184208Z
LAST-MODIFIED:20240418T184208Z
UID:995-1716985800-1716991200@gdlg.eu
SUMMARY:Bielefelder Colloquium Fremdsprachen-Forschung
DESCRIPTION:Am 29.05.2024 hält Prof. Dr. Peter Kuhlmann (Göttingen) einen Vortrag zum Thema: Sprachsensibilität\, Sprachbewusstheit und Sprachförderung im Lateinunterricht: Einblicke in Forschung und Unterrichtspraxis\n  Die Teilnahme an diesem Vortrag ist online\, via Zoom\, möglich (s. QR-Code im PDF)\n\nDas gesamte Programm finden Sie hier als PDF:\nBielefelder Colloquium Fremdsprachen-Forschung SoSe 2024\nund hier online
URL:https://gdlg.eu/event/bielefelder-colloquium-fremdsprachen-forschung/
LOCATION:Online
END:VEVENT
END:VCALENDAR