BEGIN:VCALENDAR
VERSION:2.0
PRODID:-//GDLG e.V. - ECPv6.15.20//NONSGML v1.0//EN
CALSCALE:GREGORIAN
METHOD:PUBLISH
X-WR-CALNAME:GDLG e.V.
X-ORIGINAL-URL:https://gdlg.eu
X-WR-CALDESC:Veranstaltungen für GDLG e.V.
REFRESH-INTERVAL;VALUE=DURATION:PT1H
X-Robots-Tag:noindex
X-PUBLISHED-TTL:PT1H
BEGIN:VTIMEZONE
TZID:UTC
BEGIN:STANDARD
TZOFFSETFROM:+0000
TZOFFSETTO:+0000
TZNAME:UTC
DTSTART:20220101T000000
END:STANDARD
END:VTIMEZONE
BEGIN:VEVENT
DTSTART;TZID=UTC:20231116T170000
DTEND;TZID=UTC:20231116T183000
DTSTAMP:20260422T112248
CREATED:20231115T184645Z
LAST-MODIFIED:20231115T184645Z
UID:878-1700154000-1700159400@gdlg.eu
SUMMARY:Online-Vortrag: Sprache – Macht – Diversität (Mercator Institut)
DESCRIPTION:Die Vorträge in der Veranstaltungsreihe zum Thema Sprache – Macht – Diversität des Mercator Instituts für Sprachförderung und Deutsch als Zweitsprache mit anschließender Diskussion finden donnerstags\,\n17.00-18.30 Uhr per Zoom statt:\nhttps://uni-koeln.zoom.us/j/94663313557?pwd=RGd3SVk3SzdSVEFkWHpOZGQyNk1CUT09 \nMeeting-ID: 946 6331 3557\nPasswort: 568746 \n16.11.2023:\nImmer diVERSIERTER. Sprache und intersektionale Gender & Queer Studies\nDIRK SCHULZ UND KAROLIN KALMBACH\n“Hallo Herr Nachbar” – DaF/DaZ intersektional\nCAREN BRENDEL\, MARIE-LUISE ENGELMANN\, ANNALENA MESSNER
URL:https://gdlg.eu/event/online-vortrag-sprache-macht-diversitaet-mercator-institut/
LOCATION:Online
END:VEVENT
END:VCALENDAR