BEGIN:VCALENDAR
VERSION:2.0
PRODID:-//GDLG e.V. - ECPv6.15.20//NONSGML v1.0//EN
CALSCALE:GREGORIAN
METHOD:PUBLISH
X-WR-CALNAME:GDLG e.V.
X-ORIGINAL-URL:https://gdlg.eu
X-WR-CALDESC:Veranstaltungen für GDLG e.V.
REFRESH-INTERVAL;VALUE=DURATION:PT1H
X-Robots-Tag:noindex
X-PUBLISHED-TTL:PT1H
BEGIN:VTIMEZONE
TZID:UTC
BEGIN:STANDARD
TZOFFSETFROM:+0000
TZOFFSETTO:+0000
TZNAME:UTC
DTSTART:20220101T000000
END:STANDARD
END:VTIMEZONE
BEGIN:VEVENT
DTSTART;TZID=UTC:20230628T180000
DTEND;TZID=UTC:20230628T193000
DTSTAMP:20260422T182651
CREATED:20221014T093435Z
LAST-MODIFIED:20221014T094900Z
UID:718-1687975200-1687980600@gdlg.eu
SUMMARY:Online-Vortrag: "Die digitale Transformation der Berufs- und Arbeitswelt als Gegenstand für das Lehramt"
DESCRIPTION:Der Vortrag findet am 28.06.2023\, 18:00-19:30 im Rahmen der Fortsetzung der Fachgespräche für Lehrerinnen und Lehrerbildung\, ausgerichtet von der Universität Tübingen statt.\n \nDabei wird an dem Format festgehalten\, dass jedes Fachgespräch mit einem Hauptvortrag beginnt\, der durch kritische und konstruktive Impulse von einer oder einem critical friend ergänzt wird und mit einem Beitrag aus der next generation schließt. In der anschließenden Diskussion können Fragen per Chat oder mündlich gestellt werden. Mehr dazu finden Sie hier und im beigefügten Flyer: FLYER-Fachgespräche-Lehrkräftebildung-Staffel-2 \nDie Beteiligten dieser Veranstaltung sind: \nReferentin: Evelin Wittmann\, TUM\ncritical friend: Ralf Tenberg\, Uni Darmstadt\nVertreter next generation: Johannes Krell\, Katholische Hochschule Nordrhein-Westfalen\nGastgebende: Technische Universität Dresden\, Axel Gehrmann & Manuela Niethammer
URL:https://gdlg.eu/event/online-vortrag-die-digitale-transformation-der-berufs-und-arbeitswelt-als-gegenstand-fuer-das-lehramt/
LOCATION:Online
END:VEVENT
END:VCALENDAR