BEGIN:VCALENDAR
VERSION:2.0
PRODID:-//GDLG e.V. - ECPv6.15.20//NONSGML v1.0//EN
CALSCALE:GREGORIAN
METHOD:PUBLISH
X-ORIGINAL-URL:https://gdlg.eu
X-WR-CALDESC:Veranstaltungen für GDLG e.V.
REFRESH-INTERVAL;VALUE=DURATION:PT1H
X-Robots-Tag:noindex
X-PUBLISHED-TTL:PT1H
BEGIN:VTIMEZONE
TZID:UTC
BEGIN:STANDARD
TZOFFSETFROM:+0000
TZOFFSETTO:+0000
TZNAME:UTC
DTSTART:20220101T000000
END:STANDARD
END:VTIMEZONE
BEGIN:VEVENT
DTSTART;VALUE=DATE:20230623
DTEND;VALUE=DATE:20230625
DTSTAMP:20260422T201649
CREATED:20230111T155212Z
LAST-MODIFIED:20230111T155212Z
UID:750-1687478400-1687651199@gdlg.eu
SUMMARY:26. Aquilonia
DESCRIPTION:
URL:https://gdlg.eu/event/26-aquilonia/
LOCATION:FU Berlin\, Habelschwerdter Allee 45\, Berlin
END:VEVENT
END:VCALENDAR