BEGIN:VCALENDAR
VERSION:2.0
PRODID:-//GDLG e.V. - ECPv6.15.20//NONSGML v1.0//EN
CALSCALE:GREGORIAN
METHOD:PUBLISH
X-ORIGINAL-URL:https://gdlg.eu
X-WR-CALDESC:Veranstaltungen für GDLG e.V.
REFRESH-INTERVAL;VALUE=DURATION:PT1H
X-Robots-Tag:noindex
X-PUBLISHED-TTL:PT1H
BEGIN:VTIMEZONE
TZID:UTC
BEGIN:STANDARD
TZOFFSETFROM:+0000
TZOFFSETTO:+0000
TZNAME:UTC
DTSTART:20220101T000000
END:STANDARD
END:VTIMEZONE
BEGIN:VEVENT
DTSTART;TZID=UTC:20230510T180000
DTEND;TZID=UTC:20230510T193000
DTSTAMP:20260422T220323
CREATED:20221014T092154Z
LAST-MODIFIED:20221014T092154Z
UID:708-1683741600-1683747000@gdlg.eu
SUMMARY:Online-Vortrag: "Core practices als Konzept einer praxisbasierten Lehrkräftebildung – Chancen und offene Fragen"
DESCRIPTION:Der Vortrag findet am 10.05.2023\, 18:00-19:30 im Rahmen der Fortsetzung der Fachgespräche für Lehrerinnen und Lehrerbildung\, ausgerichtet von der Universität Tübingen statt.\n \nDabei wird an dem Format festgehalten\, dass jedes Fachgespräch mit einem Hauptvortrag beginnt\, der durch kritische und konstruktive Impulse von einer oder einem critical friend ergänzt wird und mit einem Beitrag aus der next generation schließt. In der anschließenden Diskussion können Fragen per Chat oder mündlich gestellt werden. Mehr dazu finden Sie hier und im beigefügten Flyer: FLYER-Fachgespräche-Lehrkräftebildung-Staffel-2 \nDie Beteiligten dieser Veranstaltung sind: \nReferent: Urban Fraefel\, PHNW\ncritical friend: Falk Scheidig\, Ruhr-Universität Bochum\nVertreter next generation: Marco Galle\, Pädagogische Hochschule Luzern\nGastgebende: Universität Hannover\, Katharina Müller & Sascha Schanze
URL:https://gdlg.eu/event/online-vortrag-core-practices-als-konzept-einer-praxisbasierten-lehrkraeftebildung-chancen-und-offene-fragen/
LOCATION:Online
END:VEVENT
END:VCALENDAR