BEGIN:VCALENDAR
VERSION:2.0
PRODID:-//GDLG e.V. - ECPv6.15.20//NONSGML v1.0//EN
CALSCALE:GREGORIAN
METHOD:PUBLISH
X-WR-CALNAME:GDLG e.V.
X-ORIGINAL-URL:https://gdlg.eu
X-WR-CALDESC:Veranstaltungen für GDLG e.V.
REFRESH-INTERVAL;VALUE=DURATION:PT1H
X-Robots-Tag:noindex
X-PUBLISHED-TTL:PT1H
BEGIN:VTIMEZONE
TZID:UTC
BEGIN:STANDARD
TZOFFSETFROM:+0000
TZOFFSETTO:+0000
TZNAME:UTC
DTSTART:20210101T000000
END:STANDARD
END:VTIMEZONE
BEGIN:VEVENT
DTSTART;TZID=UTC:20221123T180000
DTEND;TZID=UTC:20221123T193000
DTSTAMP:20260423T091435
CREATED:20221014T090237Z
LAST-MODIFIED:20221014T090237Z
UID:694-1669226400-1669231800@gdlg.eu
SUMMARY:Online-Vortrag: "Herausforderungen institutionalisierter Lehrkräftebildung aus der Perspektive der Fachdidaktiken"
DESCRIPTION:Der Vortrag findet am 23.11.2022\, 18:00-19:30 im Rahmen der Fortsetzung der Fachgespräche für Lehrerinnen und Lehrerbildung\, ausgerichtet von der Universität Tübingen statt.\n \nDabei wird an dem Format festgehalten\, dass jedes Fachgespräch mit einem Hauptvortrag beginnt\, der durch kritische und konstruktive Impulse von einer oder einem critical friend ergänzt wird und mit einem Beitrag aus der next generation schließt. In der anschließenden Diskussion können Fragen per Chat oder mündlich gestellt werden. Mehr dazu finden Sie hier und im beigefügten Flyer: FLYER-Fachgespräche-Lehrkräftebildung-Staffel-2 \nDie Beteiligten dieser Auftaktveranstaltung sind:\nReferent: Michael Hemmer\, Universität Münster\ncritical friend: Sabine Doff\, Universität Bremen\nVertreter next generation: Christoph Vogelsang\, Universität Paderborn\nGastgebende: Universität Tübingen\, Nina Beck & Thorsten Bohl
URL:https://gdlg.eu/event/online-vortrag-herausforderungen-institutionalisierter-lehrkraeftebildung-aus-der-perspektive-der-fachdidaktiken/
LOCATION:Online
END:VEVENT
END:VCALENDAR