BEGIN:VCALENDAR
VERSION:2.0
PRODID:-//GDLG e.V. - ECPv6.15.20//NONSGML v1.0//EN
CALSCALE:GREGORIAN
METHOD:PUBLISH
X-WR-CALNAME:GDLG e.V.
X-ORIGINAL-URL:https://gdlg.eu
X-WR-CALDESC:Veranstaltungen für GDLG e.V.
REFRESH-INTERVAL;VALUE=DURATION:PT1H
X-Robots-Tag:noindex
X-PUBLISHED-TTL:PT1H
BEGIN:VTIMEZONE
TZID:UTC
BEGIN:STANDARD
TZOFFSETFROM:+0000
TZOFFSETTO:+0000
TZNAME:UTC
DTSTART:20210101T000000
END:STANDARD
END:VTIMEZONE
BEGIN:VEVENT
DTSTART;TZID=UTC:20220926T190000
DTEND;TZID=UTC:20220927T180000
DTSTAMP:20260423T112908
CREATED:20220609T113603Z
LAST-MODIFIED:20220609T120416Z
UID:626-1664218800-1664301600@gdlg.eu
SUMMARY:Symposium "Unterrichtsqualität in schulischen Fremdsprachen"
DESCRIPTION:Am 27. September 2022 findet an der Universität Erfurt ein Symposium zum Thema „Unterrichtsqualität in schulichen Fremdsprachen“ statt. Dieses Symposium wird gemeinsam von Dr. Viviane Lohe\, Prof. Dr. Petra Kirchhoff (beide Universität Erfurt) und Dr. Alfred Lindl (Universität Regensburg) organisiert. \nUnter anderem sollen folgende Fragen diskutiert werden: Was macht qualitätsvollen Fremdsprachenunterricht aus? Durch welche Merkmale zeichnet sich guter Unterricht aus und welche erweisen sich hinsichtlich unterrichtlicher Zielkriterien als effektiv? Sind diese Kriterien generisch oder fachspezifisch geprägt? \nDie Einreichung von Beiträgen ist weiterhin möglich (bis zum 15.06.) und die Veranstalter würden sich über Beiträge aus den alten Sprachen sehr freuen.\nDie Registrierung der Teilnehmenden startet dann ab 05.09.2022. Die Teilnahme ist kostenlos. Sie können außerdem gerne am Conference Dinner am Vorabend\, den 26.09.\, um 19:00 teilnehmen (mit Kosten von 50€). \nWeitere Informationen entnehmen Sie bitte der Veranstaltungsseite und dem verlinkten Call for Papers.
URL:https://gdlg.eu/event/symposium-unterrichtsqualitaet-in-schulischen-fremdsprachen/
END:VEVENT
END:VCALENDAR