BEGIN:VCALENDAR
VERSION:2.0
PRODID:-//GDLG e.V. - ECPv6.15.20//NONSGML v1.0//EN
CALSCALE:GREGORIAN
METHOD:PUBLISH
X-ORIGINAL-URL:https://gdlg.eu
X-WR-CALDESC:Veranstaltungen für GDLG e.V.
REFRESH-INTERVAL;VALUE=DURATION:PT1H
X-Robots-Tag:noindex
X-PUBLISHED-TTL:PT1H
BEGIN:VTIMEZONE
TZID:UTC
BEGIN:STANDARD
TZOFFSETFROM:+0000
TZOFFSETTO:+0000
TZNAME:UTC
DTSTART:20210101T000000
END:STANDARD
END:VTIMEZONE
BEGIN:VEVENT
DTSTART;TZID=UTC:20220715T151500
DTEND;TZID=UTC:20220715T181500
DTSTAMP:20260423T174321
CREATED:20220518T184026Z
LAST-MODIFIED:20220518T185814Z
UID:599-1657898100-1657908900@gdlg.eu
SUMMARY:4. Tübinger Demosthenes-Workshop
DESCRIPTION:Der Arbeitsbereich Fachdidaktik Griechisch / Latein der Universität Tübingen lädt herzlich zum 4. Tübinger Demosthenes-Workshop ein. \nDieser wird am 15.07.2022\, 15:15 – 18:15 hybrid stattfinden\, und zwar sowohl im Kleinen Übungsraum (KÜR) des Philologischen Seminars\, Hegelbau\, EG\, Wilhelmstr. 36\, 72074 Tübingen\, als auch online per Zoom. \nBitte melden SIe sich hoerfür unter didaskalika@philologie.uni–tuebingen.de an. \nEs sprechen \n\nKatja Sommer (Hannover): Heros der Freiheit oder unzeitgemäßer Verfechter einer untergegangenen Epoche? Demosthenes für Lateinschüler(innen) im Rahmen einer Lektüre von Ciceros Philippicae.\nKarl-Heinz Stanzel (Tübingen): Von der Parabresbeia zur Kranzrede. Demosthenes‘ Auseinandersetzung mit Aischines.\nWolfgang Polleichtner (Tübingen): “Reuchlinisch“: Johannes Reuchlin als Griechischprofessor in Tübingen und seine Aischines-Demosthenes-Studienausgabe von 1522.\n\nDas ausführlich Programm finden Sie hier als PDF: PlakatDemosthenes15.7.2022 \n 
URL:https://gdlg.eu/event/4-tuebinger-demosthenes-workshop/
LOCATION:Universität Tübingen / Zoom
END:VEVENT
END:VCALENDAR