BEGIN:VCALENDAR
VERSION:2.0
PRODID:-//GDLG e.V. - ECPv6.15.20//NONSGML v1.0//EN
CALSCALE:GREGORIAN
METHOD:PUBLISH
X-WR-CALNAME:GDLG e.V.
X-ORIGINAL-URL:https://gdlg.eu
X-WR-CALDESC:Veranstaltungen für GDLG e.V.
REFRESH-INTERVAL;VALUE=DURATION:PT1H
X-Robots-Tag:noindex
X-PUBLISHED-TTL:PT1H
BEGIN:VTIMEZONE
TZID:Europe/Berlin
BEGIN:DAYLIGHT
TZOFFSETFROM:+0100
TZOFFSETTO:+0200
TZNAME:CEST
DTSTART:20210328T010000
END:DAYLIGHT
BEGIN:STANDARD
TZOFFSETFROM:+0200
TZOFFSETTO:+0100
TZNAME:CET
DTSTART:20211031T010000
END:STANDARD
BEGIN:DAYLIGHT
TZOFFSETFROM:+0100
TZOFFSETTO:+0200
TZNAME:CEST
DTSTART:20220327T010000
END:DAYLIGHT
BEGIN:STANDARD
TZOFFSETFROM:+0200
TZOFFSETTO:+0100
TZNAME:CET
DTSTART:20221030T010000
END:STANDARD
BEGIN:DAYLIGHT
TZOFFSETFROM:+0100
TZOFFSETTO:+0200
TZNAME:CEST
DTSTART:20230326T010000
END:DAYLIGHT
BEGIN:STANDARD
TZOFFSETFROM:+0200
TZOFFSETTO:+0100
TZNAME:CET
DTSTART:20231029T010000
END:STANDARD
END:VTIMEZONE
BEGIN:VEVENT
DTSTART;TZID=Europe/Berlin:20220505T190000
DTEND;TZID=Europe/Berlin:20220505T203000
DTSTAMP:20260423T233121
CREATED:20211018T150134Z
LAST-MODIFIED:20220425T154736Z
UID:548-1651777200-1651782600@gdlg.eu
SUMMARY:! ÄNDERUNG: Abendgespräch der GDLG e.V.
DESCRIPTION:Wir möchten Sie herzlich am Donnerstag\, 5. Mai 2022 von  19.00 – ca. 20.30 Uhr zu dem zweiten Abendgespräch der GDLG (auch wieder online) einladen. \nEs gibt eine kurzfristige Änderung des Vortrags: \nCornelia Eberhardt wird zu folgendem Thema referieren: EPA – Das Bett des Prokrustes: ja oder nein?!\nDer Vortrag geht der Frage nach: Spiegeln sich die Anforderungen der EPA Latein in den schriftlichen Abiturprüfungen ausgewählter Bundesländer wider? \nIm Anschluss ist wieder Zeit um sowohl mit ihr als auch untereinander ins Gespräch zu kommen. \n\nMitglieder der GDLG e.V. erhalten den Link per Rundschreiben. Weitere Interessent*innen wenden sich bitte an GDLG@web.de \n\nFür unser Abendgespräch gegen Ende des Jahres 2022 suchen wir noch eine Referentin/einen Referenten aus unseren Reihen. Vielleicht haben Sie ja ein Thema für einen solchen Abend. Wir freuen uns sehr über Ihre Rückmeldungen.
URL:https://gdlg.eu/event/abendgespraech-der-gdlg/
END:VEVENT
END:VCALENDAR