BEGIN:VCALENDAR
VERSION:2.0
PRODID:-//GDLG e.V. - ECPv6.15.20//NONSGML v1.0//EN
CALSCALE:GREGORIAN
METHOD:PUBLISH
X-WR-CALNAME:GDLG e.V.
X-ORIGINAL-URL:https://gdlg.eu
X-WR-CALDESC:Veranstaltungen für GDLG e.V.
REFRESH-INTERVAL;VALUE=DURATION:PT1H
X-Robots-Tag:noindex
X-PUBLISHED-TTL:PT1H
BEGIN:VTIMEZONE
TZID:UTC
BEGIN:STANDARD
TZOFFSETFROM:+0000
TZOFFSETTO:+0000
TZNAME:UTC
DTSTART:20200101T000000
END:STANDARD
END:VTIMEZONE
BEGIN:VEVENT
DTSTART;VALUE=DATE:20211125
DTEND;VALUE=DATE:20211127
DTSTAMP:20260424T094221
CREATED:20210503T082610Z
LAST-MODIFIED:20210503T082610Z
UID:451-1637798400-1637971199@gdlg.eu
SUMMARY:Fünfte Fachtagung 'Perspektiven für den Lateinunterricht'
DESCRIPTION:entweder in Präsenz in Hoyerswerda oder digital
URL:https://gdlg.eu/event/fuenfte-fachtagung-perspektiven-fuer-den-lateinunterricht/
END:VEVENT
END:VCALENDAR